BEGIN:VCALENDAR
VERSION:2.0
PRODID:-//wp-events-plugin.com//7.1.7//EN
TZID:Europe/Berlin
X-WR-TIMEZONE:Europe/Berlin
BEGIN:VEVENT
UID:60@bdlo.de
DTSTART;TZID=Europe/Berlin:20240512T153000
DTEND;TZID=Europe/Berlin:20240512T153000
DTSTAMP:20240315T082912Z
URL:https://bdlo.de/events/abschlusskonzert-orchesterseminar-2024/
SUMMARY:Orchesterseminar 2024
DESCRIPTION:LBWL\n\nDas Projekt geht vom 09.05.2024-12.05.2024. Das Konzert
  findet am 12.05.2024  statt.\n\nProgramm:\nFriedrich Smetana: Festouvert
 üre D-Dur\nGioacchino Rossini: Der Barbier von Sevilla / Nr.4\, Cavatina 
 der Rosine\, "Una voce poco fa - Frag ich mein beklomm'nes Herz"\nFranz Le
 hár: Die lustige Witwe / Aus Nr.7: Lied vom Waldmägdelein - Vilja-Lied\n
 Johann Strauss: Annen-Polka op.117 aus "Eine Nacht in Venedig" (Schwips-Li
 ed)\nPeter Iljitsch Tschaikowsky: Sinfonie Nr.5 e-Moll op.64\n\nWeitere In
 formationen sind hier zu finden.
CATEGORIES:BDLO100
LOCATION:Musikakademie Schloss Weikersheim\, Marktplatz 12\, 97990 Weikersh
 eim\, Baden-Württemberg\, Deutschland
X-APPLE-STRUCTURED-LOCATION;VALUE=URI;X-ADDRESS=Marktplatz 12\, 97990 Weike
 rsheim\, Baden-Württemberg\, Deutschland;X-APPLE-RADIUS=100;X-TITLE=Musik
 akademie Schloss Weikersheim:geo:0,0
END:VEVENT
BEGIN:VTIMEZONE
TZID:Europe/Berlin
X-LIC-LOCATION:Europe/Berlin
BEGIN:DAYLIGHT
DTSTART:20240331T030000
TZOFFSETFROM:+0100
TZOFFSETTO:+0200
TZNAME:CEST
END:DAYLIGHT
END:VTIMEZONE
END:VCALENDAR