BEGIN:VCALENDAR
VERSION:2.0
PRODID:-//wp-events-plugin.com//7.1.7//EN
TZID:Europe/Berlin
X-WR-TIMEZONE:Europe/Berlin
BEGIN:VEVENT
UID:91@bdlo.de
DTSTART;TZID=Europe/Berlin:20240407T160000
DTEND;TZID=Europe/Berlin:20240407T160000
DTSTAMP:20240327T114049Z
URL:https://bdlo.de/events/aufbrueche-2/
SUMMARY:Aufbrüche
DESCRIPTION:Landesjugendorchester Sachsen\n\nProgramm:\nFabian Joosten: The
  Ignition (Uraufführung)\nRalph Vaughan Williams: Konzert für Basstuba u
 nd Orchester f-Moll (1954)\nRobert Schumann: Sinfonie Nr. 1 B-Dur op. 38 
 »Frühlingssinfonie« (1841)\n\nDonath Rehm\, Tuba\nJudith Kubitz a.G.\n
 \nWeitere Informationen sind hier zu finden.
CATEGORIES:BDLO100
LOCATION:Stadtkirche St. Marien\, Kirchplatz 13\, 01796 Pirna\, Sachsen\, D
 eutschland
X-APPLE-STRUCTURED-LOCATION;VALUE=URI;X-ADDRESS=Kirchplatz 13\, 01796 Pirna
 \, Sachsen\, Deutschland;X-APPLE-RADIUS=100;X-TITLE=Stadtkirche St. Marien
 :geo:0,0
END:VEVENT
BEGIN:VTIMEZONE
TZID:Europe/Berlin
X-LIC-LOCATION:Europe/Berlin
BEGIN:DAYLIGHT
DTSTART:20240331T030000
TZOFFSETFROM:+0100
TZOFFSETTO:+0200
TZNAME:CEST
END:DAYLIGHT
END:VTIMEZONE
END:VCALENDAR