BEGIN:VCALENDAR
VERSION:2.0
PRODID:-//wp-events-plugin.com//7.1.7//EN
TZID:Europe/Berlin
X-WR-TIMEZONE:Europe/Berlin
BEGIN:VEVENT
UID:89@bdlo.de
DTSTART;TZID=Europe/Berlin:20240204T170000
DTEND;TZID=Europe/Berlin:20240204T170000
DTSTAMP:20240319T133007Z
URL:https://bdlo.de/events/fsor-winterkonzert-2023-24/
SUMMARY:FSOR Winterkonzert 2023/24
DESCRIPTION:Freies Studentisches Orchester Rostock e.V.\n\nProgramm:\nFelix
  Mendelssohn Bartholdy: Ouvertüre Märchen von der schönen Melusine\nSam
 uel Coleridge-Taylor: Petite Suite de Concert Op. 77\nAntonín Dvořák: S
 infonie Nr. 9\n\nLeitung: Robin Portune\n\nWeitere Informationen sind hier
  zu finden.
CATEGORIES:BDLO100
LOCATION:Nikolaikirche Rostock\, Bei der Nikolaikirche 1\, 18055 Rostock\, 
 Mecklenburg-Vorpommern\, Deutschland
X-APPLE-STRUCTURED-LOCATION;VALUE=URI;X-ADDRESS=Bei der Nikolaikirche 1\, 1
 8055 Rostock\, Mecklenburg-Vorpommern\, Deutschland;X-APPLE-RADIUS=100;X-T
 ITLE=Nikolaikirche Rostock:geo:0,0
END:VEVENT
BEGIN:VTIMEZONE
TZID:Europe/Berlin
X-LIC-LOCATION:Europe/Berlin
BEGIN:STANDARD
DTSTART:20231029T020000
TZOFFSETFROM:+0200
TZOFFSETTO:+0100
TZNAME:CET
END:STANDARD
END:VTIMEZONE
END:VCALENDAR