BEGIN:VCALENDAR
VERSION:2.0
PRODID:-//wp-events-plugin.com//7.1.7//EN
TZID:Europe/Berlin
X-WR-TIMEZONE:Europe/Berlin
BEGIN:VEVENT
UID:130@bdlo.de
DTSTART;TZID=Europe/Berlin:20240623T190000
DTEND;TZID=Europe/Berlin:20240623T190000
DTSTAMP:20240723T075219Z
URL:https://bdlo.de/events/goethe-konzertabend/
SUMMARY:Goethe-Konzertabend
DESCRIPTION:Martinskollegium Pfullingen\n\nProgramm:\n\n 	Robert Schumann /
  Armin Terzer: Ouvertüre zu ‚Hermann und Dorothea‘\n 	Franz Schubert
  / Bernhard Steiner: Vier Lieder nach J. W. von Goethe für Sopran und Str
 eicher\n 	Ludwig van Beethoven / Andreas Tarkmann: Schauspielmusik zu Egmo
 nt für Sopran\, Sprecher und Kammerorchester\n\n&nbsp\;\n\nLeitung: Fried
 erike Kienle\nSolisten: Johanna Pommranz (Sopran) und Timo Brunke (Texte 
 und Sprecher)
CATEGORIES:BDLO100
LOCATION:Pfullinger Hallen\, Klosterstraße 110\, 72793 Pfullingen\, Deutsc
 hland
X-APPLE-STRUCTURED-LOCATION;VALUE=URI;X-ADDRESS=Klosterstraße 110\, 72793 
 Pfullingen\, Deutschland;X-APPLE-RADIUS=100;X-TITLE=Pfullinger Hallen:geo:
 0,0
END:VEVENT
BEGIN:VTIMEZONE
TZID:Europe/Berlin
X-LIC-LOCATION:Europe/Berlin
BEGIN:DAYLIGHT
DTSTART:20240331T030000
TZOFFSETFROM:+0100
TZOFFSETTO:+0200
TZNAME:CEST
END:DAYLIGHT
END:VTIMEZONE
END:VCALENDAR