BEGIN:VCALENDAR
VERSION:2.0
PRODID:-//wp-events-plugin.com//7.1.7//EN
TZID:Europe/Berlin
X-WR-TIMEZONE:Europe/Berlin
BEGIN:VEVENT
UID:120@bdlo.de
DTSTART;TZID=Europe/Berlin:20240414T190000
DTEND;TZID=Europe/Berlin:20240414T190000
DTSTAMP:20240710T064244Z
URL:https://bdlo.de/events/hamburg-orchester-91-2/
SUMMARY:Hamburg Orchester ´91
DESCRIPTION:Hamburg Orchester ´91\n\nProgramm:\n\nFister: Ouvertüre 91\n\
 nWilliams: Star Wars Suite\n\nTschaikowski: Sinfonie Nr. 6 h-moll "Pathét
 ique"\n\n&nbsp\;\n\nDirigent: Emanuel Dantscher
CATEGORIES:BDLO100
LOCATION:Laeiszhalle Hamburg\, Dammtorwall 46\, Hamburg\, Hamburg\, Deutsch
 land
X-APPLE-STRUCTURED-LOCATION;VALUE=URI;X-ADDRESS=Dammtorwall 46\, Hamburg\, 
 Hamburg\, Deutschland;X-APPLE-RADIUS=100;X-TITLE=Laeiszhalle Hamburg:geo:0
 ,0
END:VEVENT
BEGIN:VTIMEZONE
TZID:Europe/Berlin
X-LIC-LOCATION:Europe/Berlin
BEGIN:DAYLIGHT
DTSTART:20240331T030000
TZOFFSETFROM:+0100
TZOFFSETTO:+0200
TZNAME:CEST
END:DAYLIGHT
END:VTIMEZONE
END:VCALENDAR