BEGIN:VCALENDAR
VERSION:2.0
PRODID:-//wp-events-plugin.com//7.1.7//EN
TZID:Europe/Berlin
X-WR-TIMEZONE:Europe/Berlin
BEGIN:VEVENT
UID:155@bdlo.de
DTSTART;TZID=Europe/Berlin:20241109T180000
DTEND;TZID=Europe/Berlin:20241109T180000
DTSTAMP:20240910T083041Z
URL:https://bdlo.de/events/jubiaeumskonzert-25-jahre-frank-segner/
SUMMARY:Jubiäumskonzert 25 Jahre Frank Segner
DESCRIPTION:Wiesbadener Sinfonieorchester\n\nMit 100-köpfigem Chor und ein
 em reinen Brahms-Programm feiert das Wiesbadener Sinfonieorchester das 25-
 jährigen Jubiläum seines künstlerischen Leiters Frank Segner – und zu
 gleich dessen Abschied.\nDer Chor des traditionsreichen Musikvereins Darms
 tadt und der Kammerchor Mainz werden geleitet von Thomas Höpp.\n\nProgram
 m:\n\n 	Johannes Brahms:\n\n 	Sinfonie Nr. 2 d-moll\n 	Nänie\n 	Gesang de
 r Parzen\n 	Schicksalslied\n\n\n\nLeitung: Frank Segner\n\nEintrittspreise
  auf allen Plätzen 25€\, ermäßigt 15€ (Schüler/Studenten/Schwerbeh
 inderte)\nKarten gibt es hier und an der Abendkasse.\n\nWeitere Informati
 onen sind hier zu finden.\n\n&nbsp\;
CATEGORIES:BDLO100
LOCATION:Johanniskirche\, Johannesplatz 1\, Darmstadt\, Hessen\, 64293\, De
 utschland
X-APPLE-STRUCTURED-LOCATION;VALUE=URI;X-ADDRESS=Johannesplatz 1\, Darmstadt
 \, Hessen\, 64293\, Deutschland;X-APPLE-RADIUS=100;X-TITLE=Johanniskirche:
 geo:0,0
END:VEVENT
BEGIN:VTIMEZONE
TZID:Europe/Berlin
X-LIC-LOCATION:Europe/Berlin
BEGIN:STANDARD
DTSTART:20241027T020000
TZOFFSETFROM:+0200
TZOFFSETTO:+0100
TZNAME:CET
END:STANDARD
END:VTIMEZONE
END:VCALENDAR