BEGIN:VCALENDAR
VERSION:2.0
PRODID:-//wp-events-plugin.com//7.1.7//EN
TZID:Europe/Berlin
X-WR-TIMEZONE:Europe/Berlin
BEGIN:VEVENT
UID:51@bdlo.de
DTSTART;TZID=Europe/Berlin:20240227T203000
DTEND;TZID=Europe/Berlin:20240227T203000
DTSTAMP:20240315T141218Z
URL:https://bdlo.de/events/jubilaeumskonzert-25-jahre-c-a/
SUMMARY:Jubiläumskonzert 25 Jahre c.a.
DESCRIPTION:concentus alius\n\nProgramm:\nGustav Mahler: Sinfonie Nr.2 – 
 "Auferstehungssinfonie"\n\nWeitere Informationen sind hier zu finden.
CATEGORIES:BDLO100
LOCATION:Philharmonie Berlin\, Herbert-von-Karajan-Str. 1\, 10785 Berlin\, 
 Berlin\, Deutschland
X-APPLE-STRUCTURED-LOCATION;VALUE=URI;X-ADDRESS=Herbert-von-Karajan-Str. 1\
 , 10785 Berlin\, Berlin\, Deutschland;X-APPLE-RADIUS=100;X-TITLE=Philharmo
 nie Berlin:geo:0,0
END:VEVENT
BEGIN:VTIMEZONE
TZID:Europe/Berlin
X-LIC-LOCATION:Europe/Berlin
BEGIN:STANDARD
DTSTART:20231029T020000
TZOFFSETFROM:+0200
TZOFFSETTO:+0100
TZNAME:CET
END:STANDARD
END:VTIMEZONE
END:VCALENDAR