BEGIN:VCALENDAR
VERSION:2.0
PRODID:-//wp-events-plugin.com//7.1.7//EN
TZID:Europe/Berlin
X-WR-TIMEZONE:Europe/Berlin
BEGIN:VEVENT
UID:59@bdlo.de
DTSTART;TZID=Europe/Berlin:20240512T150000
DTEND;TZID=Europe/Berlin:20240512T150000
DTSTAMP:20240321T132952Z
URL:https://bdlo.de/events/komponistinnen-in-die-konzertsaele/
SUMMARY:Komponistinnen in die Konzertsäle
DESCRIPTION:LV Hessen\n\n"Komponistinnen in die Konzertsäle - Für Genderg
 erechtigkeit in Konzertprogrammen"\, Kooperation mit AFM und LMAH\n\nDas P
 rojekt geht vom 10.05.2024-12.05.2024. Das Konzert findet am 12.05.2024 st
 att.\n\nProgramm:\nSally Beamish: The Day Dawn für Streichorchester\nDoro
 thee Eberhardt: Streicher pur\nMaria Grimani: Ouvertüre zu „Pallade e M
 arte“\nHanna Havyelets: Chorale für Streicher\nDorothea Hofmann: Animul
 a vagula blandula für Piccoloflöte und Streicher (Uraufführung)\nKatrin
  Schweiger: Schwebend für Streicher\n\nMusikalische Leitung: Mary Ellen K
 itchens\nSolistin: Letizia Turini (Piccoloflöte)\n\nWeitere Informationen
  sind hier zu finden.
CATEGORIES:BDLO100
LOCATION:Landesmusikakademie Hessen\, Gräfin-Anna-Straße 4\, 36110 Schlit
 z\, Hessen\, Deutschland
X-APPLE-STRUCTURED-LOCATION;VALUE=URI;X-ADDRESS=Gräfin-Anna-Straße 4\, 36
 110 Schlitz\, Hessen\, Deutschland;X-APPLE-RADIUS=100;X-TITLE=Landesmusika
 kademie Hessen:geo:0,0
END:VEVENT
BEGIN:VTIMEZONE
TZID:Europe/Berlin
X-LIC-LOCATION:Europe/Berlin
BEGIN:DAYLIGHT
DTSTART:20240331T030000
TZOFFSETFROM:+0100
TZOFFSETTO:+0200
TZNAME:CEST
END:DAYLIGHT
END:VTIMEZONE
END:VCALENDAR