BEGIN:VCALENDAR
VERSION:2.0
PRODID:-//wp-events-plugin.com//7.1.7//EN
TZID:Europe/Berlin
X-WR-TIMEZONE:Europe/Berlin
BEGIN:VEVENT
UID:68@bdlo.de
DTSTART;TZID=Europe/Berlin:20240901T111500
DTEND;TZID=Europe/Berlin:20240901T111500
DTSTAMP:20240321T133137Z
URL:https://bdlo.de/events/lv-hessen/
SUMMARY:Cello-Orchester in Hessen
DESCRIPTION:6. Cello-Orchester\, Kooperationsprojekt Mit LHLO und LMAH\n\nD
 as Projekt geht vom 29.08.2024-01.09.2024. Das Konzert findet am 01.09.202
 4  statt.\n\nProgramm:\nGeorg Christoph Wagenseil: Sonata I in D\nJohann 
 Sebastian Bach: Mache dich\, mein Herze\, rein (Mt-Passion)\nFelix Mendels
 sohn: Notturno aus Sommernachtstraum\nGiuseppe Verdi: La donna e mobile au
 s Rigoletto\nAntonín Dvorak: Humoreske und Slawischer Tanz Nr.8\nGeorge G
 ershwin: A Portrait (Potpourri)\nVivienne Olive: The river runs across the
  page . . . (Uraufführung - Auftragskomposition für das Cello-Orchester 
 in Hessen)\n\nMusikalische Leitung: Helmut Sohler\n\nWeitere Informationen
  sind hier zu finden.
CATEGORIES:BDLO100
LOCATION:Landesmusikakademie Hessen Schloss Hallenburg\, Gräfin-Anna-Str. 
 4\, 36110 Schlitz\, Hessen\, Deutschland
X-APPLE-STRUCTURED-LOCATION;VALUE=URI;X-ADDRESS=Gräfin-Anna-Str. 4\, 36110
  Schlitz\, Hessen\, Deutschland;X-APPLE-RADIUS=100;X-TITLE=Landesmusikakad
 emie Hessen Schloss Hallenburg:geo:0,0
END:VEVENT
BEGIN:VTIMEZONE
TZID:Europe/Berlin
X-LIC-LOCATION:Europe/Berlin
BEGIN:DAYLIGHT
DTSTART:20240331T030000
TZOFFSETFROM:+0100
TZOFFSETTO:+0200
TZNAME:CEST
END:DAYLIGHT
END:VTIMEZONE
END:VCALENDAR