BEGIN:VCALENDAR
VERSION:2.0
PRODID:-//wp-events-plugin.com//7.1.7//EN
TZID:Europe/Berlin
X-WR-TIMEZONE:Europe/Berlin
BEGIN:VEVENT
UID:98@bdlo.de
DTSTART;TZID=Europe/Berlin:20240928T190000
DTEND;TZID=Europe/Berlin:20240928T190000
DTSTAMP:20240801T092232Z
URL:https://bdlo.de/events/neue-philharmonie-muenchen-benefizkonzert/
SUMMARY:Neue Philharmonie München - Benefizkonzert
DESCRIPTION:Neue Philharmonie München\nBenefizkonzert in Zusammenarbeit mi
 t Kolibri\nProgramm:\n\n\n 	Schumann - Manfred-Ouvertüre\n 	Schumann - Kl
 avierkonzert\n 	Brahms - Sinfonie Nr. 1\n\nDirigent: Simon Edelmann\n\nKla
 vier: Freddy Kempf\n\nTickets:\nKarten bei www.muenchenticket.de\, Tel.
  089 / 54 81 81 81
CATEGORIES:BDLO100
LOCATION:Herkulessaal München\, Residenzstraße 1\, 80539 München\, Bayer
 n\, Deutschland
X-APPLE-STRUCTURED-LOCATION;VALUE=URI;X-ADDRESS=Residenzstraße 1\, 80539 M
 ünchen\, Bayern\, Deutschland;X-APPLE-RADIUS=100;X-TITLE=Herkulessaal Mü
 nchen:geo:0,0
END:VEVENT
BEGIN:VTIMEZONE
TZID:Europe/Berlin
X-LIC-LOCATION:Europe/Berlin
BEGIN:DAYLIGHT
DTSTART:20240331T030000
TZOFFSETFROM:+0100
TZOFFSETTO:+0200
TZNAME:CEST
END:DAYLIGHT
END:VTIMEZONE
END:VCALENDAR