BEGIN:VCALENDAR
VERSION:2.0
PRODID:-//wp-events-plugin.com//7.1.7//EN
TZID:Europe/Berlin
X-WR-TIMEZONE:Europe/Berlin
BEGIN:VEVENT
UID:117@bdlo.de
DTSTART;TZID=Europe/Berlin:20240616T170000
DTEND;TZID=Europe/Berlin:20240616T170000
DTSTAMP:20240827T081039Z
URL:https://bdlo.de/events/nord-lichter-sinfoniekonzert-2024/
SUMMARY:Nord.Lichter - Sinfoniekonzert 2024
DESCRIPTION:Sinfonieorchester Magdeburger Musikfreunde e.V.\n\nUnter dem Mo
 tto „NORD.LICHTER“ gibt es ein abwechslungsreiches\, stimmungsvolles P
 rogramm mit Werken bekannter skandinavischer Komponisten.\n\nMit dem Magde
 burger Konzert nehmen wir in diesem Jahr erstmalig am Orchesterwettbewerb 
 des Landes Sachsen-Anhalt teil\, der vom Landesmusikrat organisiert wird.\
 n\nProgramm:\n\nNielsen: Saga Drom\,\nGrieg: Nordische Melodien\nSibelius:
  Finlandia\nBerwald: Sinfonie Nr. 3\n\nLeitung: Gero Wiest\n\n16:30 Einlas
 s\,\n17:00 Konzertbeginn\n\nTickets gibt es an allen bekannten Vorverkaufs
 stellen und an der Abendkasse oder Eventim
CATEGORIES:BDLO100
LOCATION:Johanniskirche\, Johannisbergstraße 1\, Magdeburg\, Sachsen-Anhal
 t\, 39104\, Deutschland
X-APPLE-STRUCTURED-LOCATION;VALUE=URI;X-ADDRESS=Johannisbergstraße 1\, Mag
 deburg\, Sachsen-Anhalt\, 39104\, Deutschland;X-APPLE-RADIUS=100;X-TITLE=J
 ohanniskirche:geo:0,0
END:VEVENT
BEGIN:VTIMEZONE
TZID:Europe/Berlin
X-LIC-LOCATION:Europe/Berlin
BEGIN:DAYLIGHT
DTSTART:20240331T030000
TZOFFSETFROM:+0100
TZOFFSETTO:+0200
TZNAME:CEST
END:DAYLIGHT
END:VTIMEZONE
END:VCALENDAR