BEGIN:VCALENDAR
VERSION:2.0
PRODID:-//wp-events-plugin.com//7.1.7//EN
TZID:Europe/Berlin
X-WR-TIMEZONE:Europe/Berlin
BEGIN:VEVENT
UID:55@bdlo.de
DTSTART;TZID=Europe/Berlin:20240427T170000
DTEND;TZID=Europe/Berlin:20240427T200000
DTSTAMP:20240314T095634Z
URL:https://bdlo.de/events/ogn-festakt-100-jahre/
SUMMARY:OGN Festakt 100 Jahre
DESCRIPTION:Orchestergemeinschaft Nürnberg\n\nFestkonzert 100 Jahre des Or
 chesters\n\nWeitere Informationen sind hier zu finden.
CATEGORIES:BDLO100
LOCATION:Gemeinschaftshaus Langwasser\, Glogauer Str. 50\, 90473 Nürnberg\
 , Bayern\, Deutschland
X-APPLE-STRUCTURED-LOCATION;VALUE=URI;X-ADDRESS=Glogauer Str. 50\, 90473 N
 ürnberg\, Bayern\, Deutschland;X-APPLE-RADIUS=100;X-TITLE=Gemeinschaftsha
 us Langwasser:geo:0,0
END:VEVENT
BEGIN:VTIMEZONE
TZID:Europe/Berlin
X-LIC-LOCATION:Europe/Berlin
BEGIN:DAYLIGHT
DTSTART:20240331T030000
TZOFFSETFROM:+0100
TZOFFSETTO:+0200
TZNAME:CEST
END:DAYLIGHT
END:VTIMEZONE
END:VCALENDAR