BEGIN:VCALENDAR
VERSION:2.0
PRODID:-//wp-events-plugin.com//7.1.7//EN
TZID:Europe/Berlin
X-WR-TIMEZONE:Europe/Berlin
BEGIN:VEVENT
UID:52@bdlo.de
DTSTART;TZID=Europe/Berlin:20240303T143000
DTEND;TZID=Europe/Berlin:20240303T143000
DTSTAMP:20240314T095125Z
URL:https://bdlo.de/events/orchester-berliner-musikfreunde/
SUMMARY:Orchester Berliner Musikfreunde
DESCRIPTION:Programm:\nSergei Wassiljewitsch Rachmaninow: Konzert für Klav
 ier und Orchester Nr. 2 op. 18 c-Moll\nAnton Bruckner: Sinfonie d-Moll WAB
  100\, Die Nullte\n\nYue Guo (Klavier)\nTabea Streicher (Klavier)\nYukari 
 Ishimoto (Dirigentin)\nOrchester Berliner Musikfreunde e.V.\n\nWeitere Inf
 ormationen sind hier zu finden.
CATEGORIES:BDLO100
LOCATION:Berliner Philharmonie\, Herbert-von-Karajan-Straße 1\, Berlin\, B
 erlin\, Deutschland
X-APPLE-STRUCTURED-LOCATION;VALUE=URI;X-ADDRESS=Herbert-von-Karajan-Straße
  1\, Berlin\, Berlin\, Deutschland;X-APPLE-RADIUS=100;X-TITLE=Berliner Phi
 lharmonie:geo:0,0
END:VEVENT
BEGIN:VTIMEZONE
TZID:Europe/Berlin
X-LIC-LOCATION:Europe/Berlin
BEGIN:STANDARD
DTSTART:20231029T020000
TZOFFSETFROM:+0200
TZOFFSETTO:+0100
TZNAME:CET
END:STANDARD
END:VTIMEZONE
END:VCALENDAR