BEGIN:VCALENDAR
VERSION:2.0
PRODID:-//wp-events-plugin.com//7.1.7//EN
TZID:Europe/Berlin
X-WR-TIMEZONE:Europe/Berlin
BEGIN:VEVENT
UID:113@bdlo.de
DTSTART;TZID=Europe/Berlin:20240711T190000
DTEND;TZID=Europe/Berlin:20240711T210000
DTSTAMP:20240708T112735Z
URL:https://bdlo.de/events/orchester-im-treffpunkt-50plus/
SUMMARY:Orchester im Treffpunkt 50plus
DESCRIPTION:Orchester im Treffpunkt 50plus\n\n&nbsp\;\n\nProgramm:\n\nMozar
 t-Konzert\, 2. Satz\n\nJohann Sebastian Bach\, Badinerie\n\n&nbsp\;\n\nMus
 ikalische Leitung: Cora Wacker\n\n&nbsp\;\n\nEintritt frei
CATEGORIES:BDLO100
LOCATION:Treffpunkt Rotebühlplatz\, Rotebühlplatz 28\, 70173 Stuttgart\, 
 Deutschland
X-APPLE-STRUCTURED-LOCATION;VALUE=URI;X-ADDRESS=Rotebühlplatz 28\, 70173 S
 tuttgart\, Deutschland;X-APPLE-RADIUS=100;X-TITLE=Treffpunkt Rotebühlplat
 z:geo:0,0
END:VEVENT
BEGIN:VTIMEZONE
TZID:Europe/Berlin
X-LIC-LOCATION:Europe/Berlin
BEGIN:DAYLIGHT
DTSTART:20240331T030000
TZOFFSETFROM:+0100
TZOFFSETTO:+0200
TZNAME:CEST
END:DAYLIGHT
END:VTIMEZONE
END:VCALENDAR