BEGIN:VCALENDAR
VERSION:2.0
PRODID:-//wp-events-plugin.com//7.1.7//EN
TZID:Europe/Berlin
X-WR-TIMEZONE:Europe/Berlin
BEGIN:VEVENT
UID:138@bdlo.de
DTSTART;TZID=Europe/Berlin:20240714T170000
DTEND;TZID=Europe/Berlin:20240714T170000
DTSTAMP:20240723T100557Z
URL:https://bdlo.de/events/parkkonzert-eppinger-musikfreunde/
SUMMARY:Parkkonzert Eppinger Musikfreunde
DESCRIPTION:Orchester Eppinger Musikfreunde e.V.\n\nProgramm:\n\n 	Jean-Bap
 tiste Lully: Airs und Tänze - Dance - Prelude - Petit Air pour les Mesmes
  - Loure pour les Pecheurs - La Loure: Les Divinités et les Nymphes - Les
  Démons - Bourée pour les Suivants de Saturne\, et les Suivants d’Astr
 ée - Rondo\n 	Georg Philipp Telemann: Sonate in D-Dur für Trompete\, Str
 eicher &amp\; Continuo\, TWV 44:1 - Spirituoso - Largo - Vivace\n 	Andrew 
 Lloyd Webber\, (Arr: Tony Osborne): Suite Nr.1 aus “CATS” The Old Gumb
 ie Cat - Memory - Skimbleshanks\n 	Giuseppe Torelli (Arr: Michel Rondeau):
  Konzert in D-Dur für Trompete\, Streicher &amp\; Continuo - Allegro - Ad
 agio - Allegro\n\nLeitung: Antoine Cottinet\n\nSolist: Johannes Troiber
CATEGORIES:BDLO100
LOCATION:Schlosspark Gemmingen\, Schlosspark Gemmingen\, 75050 Gemmingen\, 
 Deutschland
X-APPLE-STRUCTURED-LOCATION;VALUE=URI;X-ADDRESS=Schlosspark Gemmingen\, 750
 50 Gemmingen\, Deutschland;X-APPLE-RADIUS=100;X-TITLE=Schlosspark Gemminge
 n:geo:0,0
END:VEVENT
BEGIN:VTIMEZONE
TZID:Europe/Berlin
X-LIC-LOCATION:Europe/Berlin
BEGIN:DAYLIGHT
DTSTART:20240331T030000
TZOFFSETFROM:+0100
TZOFFSETTO:+0200
TZNAME:CEST
END:DAYLIGHT
END:VTIMEZONE
END:VCALENDAR