BEGIN:VCALENDAR
VERSION:2.0
PRODID:-//wp-events-plugin.com//7.1.7//EN
TZID:Europe/Berlin
X-WR-TIMEZONE:Europe/Berlin
BEGIN:VEVENT
UID:79@bdlo.de
DTSTART;TZID=Europe/Berlin:20240609T180000
DTEND;TZID=Europe/Berlin:20240609T180000
DTSTAMP:20240314T131742Z
URL:https://bdlo.de/events/philharmonischer-verein-frankfurt-2/
SUMMARY:Philharmonischer Verein Frankfurt
DESCRIPTION:Jubiläumskonzert des Gründungsmitglieds und 190. Geburtstag d
 es Philharmonischen Vereins\n\nProgramm:\nJohannes Brahms: Akademische Fes
 touvertüre c-Moll\, op. 80\nAnton Bruckner: Sinfonie Nr. 5 B-Dur (WAB 105
 )\n\nWeitere Informationen sind hier zu finden.
CATEGORIES:BDLO100
LOCATION:Saalbau Bornheim\, Arnsburger Straße 24\, 60385 Frankfurt\, Hesse
 n\, Deutschland
X-APPLE-STRUCTURED-LOCATION;VALUE=URI;X-ADDRESS=Arnsburger Straße 24\, 603
 85 Frankfurt\, Hessen\, Deutschland;X-APPLE-RADIUS=100;X-TITLE=Saalbau Bor
 nheim:geo:0,0
END:VEVENT
BEGIN:VTIMEZONE
TZID:Europe/Berlin
X-LIC-LOCATION:Europe/Berlin
BEGIN:DAYLIGHT
DTSTART:20240331T030000
TZOFFSETFROM:+0100
TZOFFSETTO:+0200
TZNAME:CEST
END:DAYLIGHT
END:VTIMEZONE
END:VCALENDAR