BEGIN:VCALENDAR
VERSION:2.0
PRODID:-//wp-events-plugin.com//7.1.7//EN
TZID:Europe/Berlin
X-WR-TIMEZONE:Europe/Berlin
BEGIN:VEVENT
UID:64@bdlo.de
DTSTART;TZID=Europe/Berlin:20240608T193000
DTEND;TZID=Europe/Berlin:20240608T193000
DTSTAMP:20240314T131553Z
URL:https://bdlo.de/events/philharmonischer-verein-frankfurt/
SUMMARY:Philharmonischer Verein Frankfurt
DESCRIPTION:Jubiläumskonzert des Gründungsmitglieds und 190. Geburtstag d
 es Philharmonischen Vereins\n\nProgramm:\nJohannes Brahms: Akademische Fes
 touvertüre c-Moll\, op. 80\nAnton Bruckner: Sinfonie Nr. 5 B-Dur (WAB 105
 )\n\nWeitere Informationen sind hier zu finden.\n\n&nbsp\;
CATEGORIES:BDLO100
LOCATION:Dr. Hoch’s Konservatorium\, Clara Schumann Saal\, Sonnemannstra
 ße 16\, 60314 Frankfurt\, Hessen\, Deutschland
X-APPLE-STRUCTURED-LOCATION;VALUE=URI;X-ADDRESS=Sonnemannstraße 16\, 60314
  Frankfurt\, Hessen\, Deutschland;X-APPLE-RADIUS=100;X-TITLE=Dr. Hoch’s 
 Konservatorium\, Clara Schumann Saal:geo:0,0
END:VEVENT
BEGIN:VTIMEZONE
TZID:Europe/Berlin
X-LIC-LOCATION:Europe/Berlin
BEGIN:DAYLIGHT
DTSTART:20240331T030000
TZOFFSETFROM:+0100
TZOFFSETTO:+0200
TZNAME:CEST
END:DAYLIGHT
END:VTIMEZONE
END:VCALENDAR