BEGIN:VCALENDAR
VERSION:2.0
PRODID:-//wp-events-plugin.com//7.1.7//EN
TZID:Europe/Berlin
X-WR-TIMEZONE:Europe/Berlin
BEGIN:VEVENT
UID:62@bdlo.de
DTSTART;TZID=Europe/Berlin:20240601T193000
DTEND;TZID=Europe/Berlin:20240601T193000
DTSTAMP:20240325T080126Z
URL:https://bdlo.de/events/preetzer-kammerorchester-sinfonisches-orchester
 -ploen/
SUMMARY:Preetzer Kammerorchester + Symphonisches Orchester Plön
DESCRIPTION:Programm:\nFelix Mendelssohn Bartholdy: The Hebrides Overture\n
 Wolfgang Amadeus Mozart: Klarinettenkonzert\nÉmile Waldteufel: Dolores Wa
 ltz\, op.170\nAntonín Dvorak: Satz aus Tschechische Suite\nEnnio Morricon
 e: LaCaliffa\nVittorio Monti: Cardasz für Violine &amp\; Orchester (Arr: 
 Sh. Tokai)
CATEGORIES:BDLO100
LOCATION:Nikolaikirche Plön\, Markt 25\, 24306 Plön\, Schleswig-Holstein\
 , Deutschland
X-APPLE-STRUCTURED-LOCATION;VALUE=URI;X-ADDRESS=Markt 25\, 24306 Plön\, Sc
 hleswig-Holstein\, Deutschland;X-APPLE-RADIUS=100;X-TITLE=Nikolaikirche Pl
 ön:geo:0,0
END:VEVENT
BEGIN:VTIMEZONE
TZID:Europe/Berlin
X-LIC-LOCATION:Europe/Berlin
BEGIN:DAYLIGHT
DTSTART:20240331T030000
TZOFFSETFROM:+0100
TZOFFSETTO:+0200
TZNAME:CEST
END:DAYLIGHT
END:VTIMEZONE
END:VCALENDAR