BEGIN:VCALENDAR
VERSION:2.0
PRODID:-//wp-events-plugin.com//7.1.7//EN
TZID:Europe/Berlin
X-WR-TIMEZONE:Europe/Berlin
BEGIN:VEVENT
UID:88@bdlo.de
DTSTART;TZID=Europe/Berlin:20240616T180000
DTEND;TZID=Europe/Berlin:20240616T180000
DTSTAMP:20240319T080121Z
URL:https://bdlo.de/events/roam-36-latin-stories/
SUMMARY:ROAM 36 « Latin Stories »
DESCRIPTION:Offizielles Jubiläumskonzert zum 100-jährigen Bestehen des BD
 LO für den Landesverband Rheinland-Pfalz\n\nProgramm:\nGeorge Gershwin: C
 uban Ouverture\nAlberto Ginastera: Konzert für Harfe und Orchester\, op. 
 25\nArturo Márquez: Danzón No. 2\nLeonard Bernstein: Sinfonische Tänze 
 aus der „West Side Story“\nHarfe: Pauline Smusch\nDirigent: Albert H
 orne\nProbentermine: 29.5.-2.6. und 14.-16.6.2024\; Konzert: Sonntag\, 16.
 6.24\, 18 Uhr\, Alte Lokhalle Mainz\n\nWeitere Informationen sind hier zu 
 finden.
CATEGORIES:BDLO100
LOCATION:Alte Lokhalle Mainz\, Mombacher Straße 78 - 80\, 55122 Mainz\, Rh
 einland-Pfalz\, Deutschland
X-APPLE-STRUCTURED-LOCATION;VALUE=URI;X-ADDRESS=Mombacher Straße 78 - 80\,
  55122 Mainz\, Rheinland-Pfalz\, Deutschland;X-APPLE-RADIUS=100;X-TITLE=Al
 te Lokhalle Mainz:geo:0,0
END:VEVENT
BEGIN:VTIMEZONE
TZID:Europe/Berlin
X-LIC-LOCATION:Europe/Berlin
BEGIN:DAYLIGHT
DTSTART:20240331T030000
TZOFFSETFROM:+0100
TZOFFSETTO:+0200
TZNAME:CEST
END:DAYLIGHT
END:VTIMEZONE
END:VCALENDAR