BEGIN:VCALENDAR
VERSION:2.0
PRODID:-//wp-events-plugin.com//7.1.7//EN
TZID:Europe/Berlin
X-WR-TIMEZONE:Europe/Berlin
BEGIN:VEVENT
UID:93@bdlo.de
DTSTART;TZID=Europe/Berlin:20240426T200000
DTEND;TZID=Europe/Berlin:20240426T200000
DTSTAMP:20240408T064353Z
URL:https://bdlo.de/events/schriesheimer-kammerorchester-2/
SUMMARY:Schriesheimer Kammerorchester
DESCRIPTION:\n\nProgramm:\nLudwig van Beethoven: Sinfonie Nr.1 in C-Dur op.
 21\nFelix Mendelssohn-Bartholdy: Konzert für Violine und Orchester in e-M
 oll op.64\n\nWeitere Informationen sind hier zu finden.\n\n
CATEGORIES:BDLO100
LOCATION:Kirche St. Vitus (Handschuhsheim)\, Steubenstraße / Ecke Pfarrgas
 se\, 69121 Heidelberg\, Baden-Württemberg\, Deutschland
X-APPLE-STRUCTURED-LOCATION;VALUE=URI;X-ADDRESS=Steubenstraße / Ecke Pfarr
 gasse\, 69121 Heidelberg\, Baden-Württemberg\, Deutschland;X-APPLE-RADIUS
 =100;X-TITLE=Kirche St. Vitus (Handschuhsheim):geo:0,0
END:VEVENT
BEGIN:VTIMEZONE
TZID:Europe/Berlin
X-LIC-LOCATION:Europe/Berlin
BEGIN:DAYLIGHT
DTSTART:20240331T030000
TZOFFSETFROM:+0100
TZOFFSETTO:+0200
TZNAME:CEST
END:DAYLIGHT
END:VTIMEZONE
END:VCALENDAR