BEGIN:VCALENDAR
VERSION:2.0
PRODID:-//wp-events-plugin.com//7.1.7//EN
TZID:Europe/Berlin
X-WR-TIMEZONE:Europe/Berlin
BEGIN:VEVENT
UID:56@bdlo.de
DTSTART;TZID=Europe/Berlin:20240427T190000
DTEND;TZID=Europe/Berlin:20240427T190000
DTSTAMP:20240408T063910Z
URL:https://bdlo.de/events/schriesheimer-kammerorchester/
SUMMARY:Schriesheimer Kammerorchester
DESCRIPTION:Programm:\nLudwig van Beethoven: Sinfonie Nr.1 in C-Dur op.21\n
 Felix Mendelssohn-Bartholdy: Konzert für Violine und Orchester in e-Moll 
 op.64\n\nWeitere Informationen sind hier zu finden.
CATEGORIES:BDLO100
LOCATION:Evangelische Kirche Schriesheim\, Kirchstr. 6\, 69198 Schriesheim\
 , Baden-Württemberg\, Deutschland
X-APPLE-STRUCTURED-LOCATION;VALUE=URI;X-ADDRESS=Kirchstr. 6\, 69198 Schries
 heim\, Baden-Württemberg\, Deutschland;X-APPLE-RADIUS=100;X-TITLE=Evangel
 ische Kirche Schriesheim:geo:0,0
END:VEVENT
BEGIN:VTIMEZONE
TZID:Europe/Berlin
X-LIC-LOCATION:Europe/Berlin
BEGIN:DAYLIGHT
DTSTART:20240331T030000
TZOFFSETFROM:+0100
TZOFFSETTO:+0200
TZNAME:CEST
END:DAYLIGHT
END:VTIMEZONE
END:VCALENDAR