BEGIN:VCALENDAR
VERSION:2.0
PRODID:-//wp-events-plugin.com//7.1.7//EN
TZID:Europe/Berlin
X-WR-TIMEZONE:Europe/Berlin
BEGIN:VEVENT
UID:67@bdlo.de
DTSTART;TZID=Europe/Berlin:20240713T190000
DTEND;TZID=Europe/Berlin:20240713T190000
DTSTAMP:20240422T072149Z
URL:https://bdlo.de/events/sinfonieorchester-ettlingen-sinfonieorchester-d
 er-musikschule-ettlingen/
SUMMARY:Sinfonieorchester Ettlingen & Sinfonieorchester der Musikschule Ett
 lingen
DESCRIPTION:Auftritt im Rahmen der "Musiknacht im Grünhaus"
CATEGORIES:BDLO100
LOCATION:Stadtwerke Ettlingen GmbH\, Hertzstraße 33\, 76275 Ettlingen\, Ba
 den-Württemberg\, Deutschland
X-APPLE-STRUCTURED-LOCATION;VALUE=URI;X-ADDRESS=Hertzstraße 33\, 76275 Ett
 lingen\, Baden-Württemberg\, Deutschland;X-APPLE-RADIUS=100;X-TITLE=Stadt
 werke Ettlingen GmbH:geo:0,0
END:VEVENT
BEGIN:VTIMEZONE
TZID:Europe/Berlin
X-LIC-LOCATION:Europe/Berlin
BEGIN:DAYLIGHT
DTSTART:20240331T030000
TZOFFSETFROM:+0100
TZOFFSETTO:+0200
TZNAME:CEST
END:DAYLIGHT
END:VTIMEZONE
END:VCALENDAR