BEGIN:VCALENDAR
VERSION:2.0
PRODID:-//wp-events-plugin.com//7.1.7//EN
TZID:Europe/Berlin
X-WR-TIMEZONE:Europe/Berlin
BEGIN:VEVENT
UID:94@bdlo.de
DTSTART;TZID=Europe/Berlin:20240613T200000
DTEND;TZID=Europe/Berlin:20240613T200000
DTSTAMP:20240422T073819Z
URL:https://bdlo.de/events/sommer-benefiz-konzert/
SUMMARY:Sommer-Benefiz-Konzert
DESCRIPTION:concentus alius\, Sommer-Benefiz-Konzert\, erneut zugunsten Tau
 werk e.V.\n\nProgramm:\nClaude Debussy: Rapsodie pour Orchestre et Saxopho
 ne Alto Mib\, Solist: Adrien Liebermann\nFranz Schubert: "Die Unvollendete
 "\, also Sinfonie Nr. 7 h-Moll op. posth. D 759\nEdvard Grieg: Peer-Gynt-S
 uiten 1 &amp\; 2 op. 46 &amp\; 55\n\nChristiane Silber\, Dirigentin\n\nWei
 tere Informationen und Karten sind hier zu finden.
CATEGORIES:BDLO100
LOCATION:Emmaus-Kirche - Ev. Emmaus-Ölberg-Kirchengemeinde\, Lausitzer Pla
 tz 8a\, 10997 Berlin\, Berlin\, Deutschland
X-APPLE-STRUCTURED-LOCATION;VALUE=URI;X-ADDRESS=Lausitzer Platz 8a\, 10997 
 Berlin\, Berlin\, Deutschland;X-APPLE-RADIUS=100;X-TITLE=Emmaus-Kirche - E
 v. Emmaus-Ölberg-Kirchengemeinde:geo:0,0
END:VEVENT
BEGIN:VTIMEZONE
TZID:Europe/Berlin
X-LIC-LOCATION:Europe/Berlin
BEGIN:DAYLIGHT
DTSTART:20240331T030000
TZOFFSETFROM:+0100
TZOFFSETTO:+0200
TZNAME:CEST
END:DAYLIGHT
END:VTIMEZONE
END:VCALENDAR