BEGIN:VCALENDAR
VERSION:2.0
PRODID:-//wp-events-plugin.com//7.1.7//EN
TZID:Europe/Berlin
X-WR-TIMEZONE:Europe/Berlin
BEGIN:VEVENT
UID:109@bdlo.de
DTSTART;TZID=Europe/Berlin:20240714T160000
DTEND;TZID=Europe/Berlin:20240714T160000
DTSTAMP:20240708T083717Z
URL:https://bdlo.de/events/sommerkonzert-45-jahre-omn/
SUMMARY:Sommerkonzert 45 Jahre OMN
DESCRIPTION:Sommerkonzert 45 Jahre OMN\n\nOrchester München-Nord e.V.\n\nP
 rogramm:\n\n 	F. Schubert: Rosamunde - Ballettmusik D. 797 Nr. 2 und Nr. 9
 \n 	G. Bizet: L´Arlésienne-Suite Nr. 1\n 	F. Schubert: Sinfonie Nr. 7 D 
 759 (Die Unvollendete)\n\nLeitung: Tamara Mersetzky\n\n&nbsp\;\n\nEintritt
  frei\, Spenden erbeten\n\n&nbsp\;
CATEGORIES:BDLO100
LOCATION:Theatersaal des Augustinum\, Weitlstr. 66\, 80935 München\, Deuts
 chland
X-APPLE-STRUCTURED-LOCATION;VALUE=URI;X-ADDRESS=Weitlstr. 66\, 80935 Münch
 en\, Deutschland;X-APPLE-RADIUS=100;X-TITLE=Theatersaal des Augustinum:geo
 :0,0
END:VEVENT
BEGIN:VTIMEZONE
TZID:Europe/Berlin
X-LIC-LOCATION:Europe/Berlin
BEGIN:DAYLIGHT
DTSTART:20240331T030000
TZOFFSETFROM:+0100
TZOFFSETTO:+0200
TZNAME:CEST
END:DAYLIGHT
END:VTIMEZONE
END:VCALENDAR