BEGIN:VCALENDAR
VERSION:2.0
PRODID:-//wp-events-plugin.com//7.1.7//EN
TZID:Europe/Berlin
X-WR-TIMEZONE:Europe/Berlin
BEGIN:VEVENT
UID:84@bdlo.de
DTSTART;TZID=Europe/Berlin;VALUE=DATE:20240119
DTEND;TZID=Europe/Berlin;VALUE=DATE:20240122
DTSTAMP:20240314T140228Z
URL:https://bdlo.de/events/symphonic-jazz-orchestra-sinfonieorchester-trif
 ft-crossover-band-uwaga/
SUMMARY:"Symphonic Jazz Orchestra" - Sinfonieorchester trifft Crossover-Ban
 d Uwaga!
DESCRIPTION:Eingeladen hatten die Landesmusikakademie Hessen und der Landes
 verband Hessischer Liebhaberorchester (LHLO).\n\nWeitere Informationen sin
 d hier erhältlich.
CATEGORIES:BDLO100
LOCATION:Landesmusikakademie Hessen\, Gräfin-Anna-Straße 4\, 36110 Schlit
 z\, Hessen\, Deutschland
X-APPLE-STRUCTURED-LOCATION;VALUE=URI;X-ADDRESS=Gräfin-Anna-Straße 4\, 36
 110 Schlitz\, Hessen\, Deutschland;X-APPLE-RADIUS=100;X-TITLE=Landesmusika
 kademie Hessen:geo:0,0
END:VEVENT
BEGIN:VTIMEZONE
TZID:Europe/Berlin
X-LIC-LOCATION:Europe/Berlin
BEGIN:STANDARD
DTSTART:20231029T020000
TZOFFSETFROM:+0200
TZOFFSETTO:+0100
TZNAME:CET
END:STANDARD
END:VTIMEZONE
END:VCALENDAR