BEGIN:VCALENDAR
VERSION:2.0
PRODID:-//wp-events-plugin.com//7.1.7//EN
TZID:Europe/Berlin
X-WR-TIMEZONE:Europe/Berlin
BEGIN:VEVENT
UID:92@bdlo.de
DTSTART;TZID=Europe/Berlin:20240505T160000
DTEND;TZID=Europe/Berlin:20240505T160000
DTSTAMP:20240327T115606Z
URL:https://bdlo.de/events/zauber-der-musik-in-bildern/
SUMMARY:Zauber der Musik in Bildern
DESCRIPTION:Collegium musicum Parchim e.V.\n\nProgramm:\nJean Sibelius: And
 ante festivo Nr.1 für Streichorchester und Pauken\nJohann Carl Ditters vo
 n Dittersdorf: Konzert für Cembalo (Klavier) und Streichorchester A-Dur\n
 Heinrich Ignaz Franz Biber: Sonata "Battalia" für Streichorchester und Ba
 sso continuo\nGiuseppe Sammartini: Konzert für Blockflöte und Streichorc
 hester F-Dur\nJohn Lennon\, Paul McCartney: Yesterday\nJohn Lennon\, Paul 
 McCartney: Hello Goodbye\n\nDirigent: Magdalena Szesny\nSolisten: Christia
 ne Klonz (Klavier)\, Bianka Schubert (Blockflöte)\n\nWeitere Informatione
 n sind hier zu finden.
CATEGORIES:BDLO100
LOCATION:Solitär\, Putlitzer Straße 25\, 19370 Parchim\, Mecklenburg-Vorp
 ommern\, Deutschland
X-APPLE-STRUCTURED-LOCATION;VALUE=URI;X-ADDRESS=Putlitzer Straße 25\, 1937
 0 Parchim\, Mecklenburg-Vorpommern\, Deutschland;X-APPLE-RADIUS=100;X-TITL
 E=Solitär:geo:0,0
END:VEVENT
BEGIN:VTIMEZONE
TZID:Europe/Berlin
X-LIC-LOCATION:Europe/Berlin
BEGIN:DAYLIGHT
DTSTART:20240331T030000
TZOFFSETFROM:+0100
TZOFFSETTO:+0200
TZNAME:CEST
END:DAYLIGHT
END:VTIMEZONE
END:VCALENDAR